BEGIN:VCALENDAR
VERSION:2.0
PRODID:-//Library Market//iCal Export//EN
BEGIN:VEVENT
SUMMARY:Friends of Chambers County Library System Meeting
UID:10947
DTSTAMP:20260422T155500Z
DTSTART:20260720T220000Z
DTEND:20260721T003000Z
LOCATION:Juanita Hargraves Memorial Branch, Winnie, 108 E Fear Rd, Winnie,
  TX 77665, United States
ROOM: Winnie Meeting Room
DESCRIPTION:To support CCLS
URL:https://www.chambers.lib.tx.us/event/friends-chambers-county-library-s
 ystem-meeting-10947
END:VEVENT
END:VCALENDAR
